BEGIN:VCALENDAR
VERSION:2.0
PRODID:-//Deutscher Schwerhörigenbund e.V. - ECPv6.15.20//NONSGML v1.0//EN
CALSCALE:GREGORIAN
METHOD:PUBLISH
X-WR-CALNAME:Deutscher Schwerhörigenbund e.V.
X-ORIGINAL-URL:https://schwerhoerigen-netz.de
X-WR-CALDESC:Veranstaltungen für Deutscher Schwerhörigenbund e.V.
REFRESH-INTERVAL;VALUE=DURATION:PT1H
X-Robots-Tag:noindex
X-PUBLISHED-TTL:PT1H
BEGIN:VTIMEZONE
TZID:Europe/Berlin
BEGIN:DAYLIGHT
TZOFFSETFROM:+0100
TZOFFSETTO:+0200
TZNAME:CEST
DTSTART:20250330T010000
END:DAYLIGHT
BEGIN:STANDARD
TZOFFSETFROM:+0200
TZOFFSETTO:+0100
TZNAME:CET
DTSTART:20251026T010000
END:STANDARD
BEGIN:DAYLIGHT
TZOFFSETFROM:+0100
TZOFFSETTO:+0200
TZNAME:CEST
DTSTART:20260329T010000
END:DAYLIGHT
BEGIN:STANDARD
TZOFFSETFROM:+0200
TZOFFSETTO:+0100
TZNAME:CET
DTSTART:20261025T010000
END:STANDARD
BEGIN:DAYLIGHT
TZOFFSETFROM:+0100
TZOFFSETTO:+0200
TZNAME:CEST
DTSTART:20270328T010000
END:DAYLIGHT
BEGIN:STANDARD
TZOFFSETFROM:+0200
TZOFFSETTO:+0100
TZNAME:CET
DTSTART:20271031T010000
END:STANDARD
END:VTIMEZONE
BEGIN:VEVENT
DTSTART;TZID=Europe/Berlin:20260424T130000
DTEND;TZID=Europe/Berlin:20260424T170000
DTSTAMP:20260424T211615
CREATED:20260317T085626Z
LAST-MODIFIED:20260317T093818Z
UID:4063-1777035600-1777050000@schwerhoerigen-netz.de
SUMMARY:Fachtagung: Hör-Barrieren sind von Menschen gemacht-und können von IHNEN abgebaut werden
DESCRIPTION:Kommunikationsbarrieren bleiben oft unbemerkt – ihre Folgen jedoch nicht. Die Fachtagung lädt dazu ein\, Erfahrungen sichtbar zu machen und gemeinsam darüber zu sprechen\, wie Teilhabe besser gelingen kann.  \n\n\n\nIm Mittelpunkt stehen die Bedarfe lautsprachlich kommunizierender Menschen mit Hörbeeinträchtigung. Konkrete Beispiele zeigen\, wo Barrieren im Alltag\, in Institutionen und in politischen Prozessen entstehen – und welche Lösungsansätze bereits bestehen oder weiterentwickelt werden können.  \n\n\n\nEingeladen sind Betroffene sowie Vertreter*innen aus Politik\, Verwaltung und Institutionen zwecks Information\, Austausch und Diskussion. Die Tagung steht unter der Schirmherrschaft von Matthias Heidmeier\, Staatssekretär im Ministerium für Arbeit\, Gesundheit und Soziales des Landes Nordrhein-Westfalen. \n\n\n\nAnlass ist zugleich das 125-jährige Bestehen der Schwerhörigenbewegung– ein guter Zeitpunkt\, um gemeinsam zurückzublicken und den Blick nach vorn zu richten: auf Verantwortung\, Handlungsspielräume und konkrete Schritte für die Zukunft. \n\n\n\n\nVoraussichtliches Programm\nab 13 Uhr Einlass und Willkommen mit StehkaffeeAusgabe der Hör-Empfänger. Da die verbandseigene Höranlage genutztwird ohne Saal-Lautsprecher\, empfiehlt sich die Ausleihe auch für Guthörende. Gerne können Sie einen eigenen Kopfhörer mitbringen (mit 3\,5mm Klinkenstecker)13:45 Uhr Begrüßung\, Technik-CheckGrußwort des Schirmherrn: Staatssekretär Matthias HeidmeierEinleitung durch die Vorsitzende des DSB Landesverbandes NRW:Susanne Schmidt Impulsvorträge und Diskussionen mit Vertreter*innen aus der Selbsthilfe\, Landesregierung\, Verwaltung und Politik– Wen betrifft Hörbeeinträchtigung? – Typische und insbesondere „landgemachte“ Hör-Barrieren– Wie kann man sie verringern?Feedback der Gäste zur Hörerfahrung mit den Hör-Empfängern15:45 Uhr Pause und Gelegenheit zum persönlichen Austausch16:15 Uhr Aufteilen in vertiefende Tischgespräche zu Detailthemen– „Zugeben können\, schlecht zu verstehen“ – Bewusstseinswandel in der Gesellschaft – Schallschutz und Raumakustik– Akustische Übertragungsanlagen\, von Induktion bis Auracast – Schriftdolmetschen und Automatische Transkription17:00 Uhr Zusammentragen der Ergebnisse17:30 Uhr Ende \n\n\n\n\n\n\n\n\n\nHinweis\n\n\n\nDie Veranstaltung wird durch eine Höranlage mit Kopfhörern oder induktiven Halsringschleifen und Schriftdolmetscher*innen unterstützt. Die Teilnahme ist kostenfrei. \n\n\n\nAnmeldung\n\n\n\nEine Anmeldung bis spätestens 2. April 2026 ist unbedingt erforderlich per E-Mail an jhv@dsb-lv-nrw.de. Nach der Anmeldung erhalten Sie einen Anmeldebogen sowie die erforderlichen Informationen zum Datenschutz. \n\n\n\nVeranstalter\n\n\n\nDeutscher Schwerhörigenbund – Landesverband NRW e.V.Geschäftsstelle:  Stifterweg 1059759 ArnsbergE-Mail: jhv@dsb-lv-nrw.de \n\n\n\nVeranstaltungsort
URL:https://schwerhoerigen-netz.de/veranstaltung/fachtagung-hoer-barrieren-sind-von-menschen-gemacht-und-koennen-von-ihnen-abgebaut-werden/
LOCATION:Jugendherberge Düsseldorf\, Düsseldorfer Str. 1\, Düsseldorf\, 40545
CATEGORIES:Veranstaltungen
ATTACH;FMTTYPE=image/jpeg:https://schwerhoerigen-netz.de/wp-content/uploads/2026/03/Veranstaltung-1.jpg
END:VEVENT
BEGIN:VEVENT
DTSTART;TZID=Europe/Berlin:20260425T100000
DTEND;TZID=Europe/Berlin:20260425T150000
DTSTAMP:20260424T211615
CREATED:20251119T114409Z
LAST-MODIFIED:20260416T083836Z
UID:3308-1777111200-1777129200@schwerhoerigen-netz.de
SUMMARY:Aktionstag der DSB HÖRMobil TOUR "Hören" in Bad Kissingen
DESCRIPTION:Die DSB HÖRMobil-TOUR wurde vom Landkreis Bad Kissingen/Pflegestützpunkt zu ihrem Aktionstag „Hören“ eingeladen. Nähere Informationen zu diesem Termin teilen wir Ihnen zeitnah mit. \n\n\n\nVeranstaltungsort\n\n\n\nWird uns vom Veranstalter noch mitgeteilt …
URL:https://schwerhoerigen-netz.de/veranstaltung/aktionstag-in-bad-kissingen-2/
CATEGORIES:DSB HÖRMobil-TOUR Terminplan
ATTACH;FMTTYPE=image/png:https://schwerhoerigen-netz.de/wp-content/uploads/2025/11/DSB-HOeRMobil-TOUR_HP-2.png
END:VEVENT
BEGIN:VEVENT
DTSTART;TZID=Europe/Berlin:20260426T103000
DTEND;TZID=Europe/Berlin:20260426T120000
DTSTAMP:20260424T211615
CREATED:20260121T092100Z
LAST-MODIFIED:20260420T073320Z
UID:3601-1777199400-1777204800@schwerhoerigen-netz.de
SUMMARY:Alternativer Gottesdienst in Altenkessel
DESCRIPTION:Das Thema ist: „Ist Inklusion gut genug…? Nicht gut genug?“\n\n\n\nTeilhabe und Inklusion sind sehr wichtig\, aber leider immer noch nicht selbstverständlich. Wir alle können dazu beitragen\, dass Menschen besser unterstützt werden. Wir setzen uns dafür ein – Inklusion ist eine Herzenssache für uns. Wir haben musikalische Gäste im Gottesdienst. \n\n\n\nDer Inklusionschor „Freunde für euch“ von der Lebenshilfe Obere Saar e.V. kommt zu uns. \n\n\n\nUnsere Gottesdienste sind speziell für Menschen gestaltet\, die Kirche auf eine neue\, lebendige und inklusive Weise erleben möchten. \n\n\n\nWas uns auszeichnet\n\n\n\nOffene Arme für alle\n\n\n\nBei uns sind alle herzlich willkommen! Jeder wird mit Freude und Wertschätzung empfangen. \n\n\n\nKinderfreundlich\n\n\n\nFür unsere kleinen Gäste gibt es eine spannende und altersgerechte Kinderbetreuung\, die jede Menge Spaß und Abwechslung bietet. \n\n\n\nInklusion im Fokus\n\n\n\nInklusion ist unser Herzensanliegen. Der gesamte Gottesdienst wird in Gebärdensprache übersetzt\, und eine Schriftdolmetscherin fasst alles Gesprochene und Gesungene in Echtzeit zusammen. Über einen großen Monitor können alle Inhalte leicht mitverfpolgt werden. \n\n\n\nKreative Beteiligung\n\n\n\nIhr seid nicht nur Zuschauer\, sondern Mitgestalter. Im kreativen Teil des Gottesdienstes könnt Ihr Euch aktiv einbringen. \n\n\n\nMusik\, die bewegt\n\n\n\nUnser Singkreis und unsere Band sorgen für eine mitreißende musikalische Begleitung\, die Freude und Inspiration schenkt. \n\n\n\nNach dem Gottesdienst laden wir Euch herzlich zu einem gemütlichen Kirchenkaffee im Gemeindesaal ein. Wir nehmen uns Zeit für persönliche Gespräche\, Austausch und gemeinsames Lachen – denn Gemeinschaft steht bei uns im Mittelpunkt. \n\n\n\nKommt vorbei und erlebt Kirche anders! \n\n\n\n \n\n\n\n \n\n\n\nVeranstaltungsort
URL:https://schwerhoerigen-netz.de/veranstaltung/einladung-alternativen-gottesdienst-in-altenkessel/
LOCATION:Lutherkirche\, Hasenstraße 2\, Altenkessel\, Saarland\, 66126\, Germany
CATEGORIES:Veranstaltungen
ATTACH;FMTTYPE=image/jpeg:https://schwerhoerigen-netz.de/wp-content/uploads/2025/09/image0.jpeg
END:VEVENT
BEGIN:VEVENT
DTSTART;TZID=Europe/Berlin:20260428T083000
DTEND;TZID=Europe/Berlin:20260428T160000
DTSTAMP:20260424T211615
CREATED:20260327T113131Z
LAST-MODIFIED:20260327T113235Z
UID:4150-1777365000-1777392000@schwerhoerigen-netz.de
SUMMARY:Fachtag - Inklusive Medizin
DESCRIPTION:Zum Fachtag „Inklusive Medizin“ sind alle Ärztinnen\, Therapeutinnen und weitereFachkräfte aus Praxen\, Kliniken\, Einrichtungen des Sozial- und Gesundheitswesens sowie Betroffene\, Angehörige und Interessierte herzlich eingeladen. \n\n\n\n\nFlyer Fachtag.pdf\n\n\n\n\nAnmeldung\n\n\n\n\nAnmeldung\n\n\n\n\nAnmeldeschluss\n\n\n\nDie Veranstaltung ist kostenfrei\, eine vorherige Anmeldung bis zum 14. April 2026 ist jedoch erforderlich. \n\n\n\nKontakt\n\n\n\nTanja MüllerTel.: 0661 10 97 364E-Mail: t.mueller@antonius.de
URL:https://schwerhoerigen-netz.de/veranstaltung/fachtag-inklusive-medizin/
CATEGORIES:Veranstaltungen
ATTACH;FMTTYPE=image/jpeg:https://schwerhoerigen-netz.de/wp-content/uploads/2026/03/Veranstaltung-1.jpg
END:VEVENT
END:VCALENDAR