BEGIN:VCALENDAR
VERSION:2.0
PRODID:-//Deutscher Schwerhörigenbund e.V. - ECPv6.15.20//NONSGML v1.0//EN
CALSCALE:GREGORIAN
METHOD:PUBLISH
X-WR-CALNAME:Deutscher Schwerhörigenbund e.V.
X-ORIGINAL-URL:https://schwerhoerigen-netz.de
X-WR-CALDESC:Veranstaltungen für Deutscher Schwerhörigenbund e.V.
REFRESH-INTERVAL;VALUE=DURATION:PT1H
X-Robots-Tag:noindex
X-PUBLISHED-TTL:PT1H
BEGIN:VTIMEZONE
TZID:Europe/Berlin
BEGIN:DAYLIGHT
TZOFFSETFROM:+0100
TZOFFSETTO:+0200
TZNAME:CEST
DTSTART:20250330T010000
END:DAYLIGHT
BEGIN:STANDARD
TZOFFSETFROM:+0200
TZOFFSETTO:+0100
TZNAME:CET
DTSTART:20251026T010000
END:STANDARD
BEGIN:DAYLIGHT
TZOFFSETFROM:+0100
TZOFFSETTO:+0200
TZNAME:CEST
DTSTART:20260329T010000
END:DAYLIGHT
BEGIN:STANDARD
TZOFFSETFROM:+0200
TZOFFSETTO:+0100
TZNAME:CET
DTSTART:20261025T010000
END:STANDARD
BEGIN:DAYLIGHT
TZOFFSETFROM:+0100
TZOFFSETTO:+0200
TZNAME:CEST
DTSTART:20270328T010000
END:DAYLIGHT
BEGIN:STANDARD
TZOFFSETFROM:+0200
TZOFFSETTO:+0100
TZNAME:CET
DTSTART:20271031T010000
END:STANDARD
END:VTIMEZONE
BEGIN:VEVENT
DTSTART;TZID=Europe/Berlin:20260424T130000
DTEND;TZID=Europe/Berlin:20260424T170000
DTSTAMP:20260424T224641
CREATED:20260317T085626Z
LAST-MODIFIED:20260317T093818Z
UID:4063-1777035600-1777050000@schwerhoerigen-netz.de
SUMMARY:Fachtagung: Hör-Barrieren sind von Menschen gemacht-und können von IHNEN abgebaut werden
DESCRIPTION:Kommunikationsbarrieren bleiben oft unbemerkt – ihre Folgen jedoch nicht. Die Fachtagung lädt dazu ein\, Erfahrungen sichtbar zu machen und gemeinsam darüber zu sprechen\, wie Teilhabe besser gelingen kann.  \n\n\n\nIm Mittelpunkt stehen die Bedarfe lautsprachlich kommunizierender Menschen mit Hörbeeinträchtigung. Konkrete Beispiele zeigen\, wo Barrieren im Alltag\, in Institutionen und in politischen Prozessen entstehen – und welche Lösungsansätze bereits bestehen oder weiterentwickelt werden können.  \n\n\n\nEingeladen sind Betroffene sowie Vertreter*innen aus Politik\, Verwaltung und Institutionen zwecks Information\, Austausch und Diskussion. Die Tagung steht unter der Schirmherrschaft von Matthias Heidmeier\, Staatssekretär im Ministerium für Arbeit\, Gesundheit und Soziales des Landes Nordrhein-Westfalen. \n\n\n\nAnlass ist zugleich das 125-jährige Bestehen der Schwerhörigenbewegung– ein guter Zeitpunkt\, um gemeinsam zurückzublicken und den Blick nach vorn zu richten: auf Verantwortung\, Handlungsspielräume und konkrete Schritte für die Zukunft. \n\n\n\n\nVoraussichtliches Programm\nab 13 Uhr Einlass und Willkommen mit StehkaffeeAusgabe der Hör-Empfänger. Da die verbandseigene Höranlage genutztwird ohne Saal-Lautsprecher\, empfiehlt sich die Ausleihe auch für Guthörende. Gerne können Sie einen eigenen Kopfhörer mitbringen (mit 3\,5mm Klinkenstecker)13:45 Uhr Begrüßung\, Technik-CheckGrußwort des Schirmherrn: Staatssekretär Matthias HeidmeierEinleitung durch die Vorsitzende des DSB Landesverbandes NRW:Susanne Schmidt Impulsvorträge und Diskussionen mit Vertreter*innen aus der Selbsthilfe\, Landesregierung\, Verwaltung und Politik– Wen betrifft Hörbeeinträchtigung? – Typische und insbesondere „landgemachte“ Hör-Barrieren– Wie kann man sie verringern?Feedback der Gäste zur Hörerfahrung mit den Hör-Empfängern15:45 Uhr Pause und Gelegenheit zum persönlichen Austausch16:15 Uhr Aufteilen in vertiefende Tischgespräche zu Detailthemen– „Zugeben können\, schlecht zu verstehen“ – Bewusstseinswandel in der Gesellschaft – Schallschutz und Raumakustik– Akustische Übertragungsanlagen\, von Induktion bis Auracast – Schriftdolmetschen und Automatische Transkription17:00 Uhr Zusammentragen der Ergebnisse17:30 Uhr Ende \n\n\n\n\n\n\n\n\n\nHinweis\n\n\n\nDie Veranstaltung wird durch eine Höranlage mit Kopfhörern oder induktiven Halsringschleifen und Schriftdolmetscher*innen unterstützt. Die Teilnahme ist kostenfrei. \n\n\n\nAnmeldung\n\n\n\nEine Anmeldung bis spätestens 2. April 2026 ist unbedingt erforderlich per E-Mail an jhv@dsb-lv-nrw.de. Nach der Anmeldung erhalten Sie einen Anmeldebogen sowie die erforderlichen Informationen zum Datenschutz. \n\n\n\nVeranstalter\n\n\n\nDeutscher Schwerhörigenbund – Landesverband NRW e.V.Geschäftsstelle:  Stifterweg 1059759 ArnsbergE-Mail: jhv@dsb-lv-nrw.de \n\n\n\nVeranstaltungsort
URL:https://schwerhoerigen-netz.de/veranstaltung/fachtagung-hoer-barrieren-sind-von-menschen-gemacht-und-koennen-von-ihnen-abgebaut-werden/
LOCATION:Jugendherberge Düsseldorf\, Düsseldorfer Str. 1\, Düsseldorf\, 40545
CATEGORIES:Veranstaltungen
ATTACH;FMTTYPE=image/jpeg:https://schwerhoerigen-netz.de/wp-content/uploads/2026/03/Veranstaltung-1.jpg
END:VEVENT
END:VCALENDAR